BEGIN:VCALENDAR
VERSION:2.0
PRODID:-//NYSPANA - ECPv6.3.5//NONSGML v1.0//EN
CALSCALE:GREGORIAN
METHOD:PUBLISH
X-ORIGINAL-URL:https://www.nyspana.net
X-WR-CALDESC:Events for NYSPANA
REFRESH-INTERVAL;VALUE=DURATION:PT1H
X-Robots-Tag:noindex
X-PUBLISHED-TTL:PT1H
BEGIN:VTIMEZONE
TZID:UTC
BEGIN:STANDARD
TZOFFSETFROM:+0000
TZOFFSETTO:+0000
TZNAME:UTC
DTSTART:20240101T000000
END:STANDARD
END:VTIMEZONE
BEGIN:VEVENT
DTSTART;TZID=UTC:20240921T080000
DTEND;TZID=UTC:20240921T170000
DTSTAMP:20260422T090221
CREATED:20240806T194951Z
LAST-MODIFIED:20240921T195512Z
UID:7438-1726905600-1726938000@www.nyspana.net
SUMMARY:NYSPANA District 2 Fall Conference
DESCRIPTION:Saturday\, September 21\, 2024\nHyatt House\n100 Westage Business Center Drive\nFishkill\, NY 12524\n\n\nRegistration Fee’s: Members $50.00     Non-Members $75.00\n\nREGISTRATION IS CLOSED\n  \nPresentation Line-Up: \nNurses: Learning\, Sharing\, Caring \n\n0730: Registration and Continental Breakfast\n0800: Orthopedic Nurse Navigator – Get to know the Flow\, Gigi Tam RN\n0905: No Bones About It\, Joint Replacements – Pulling it All Together- Start to Finish\, Carmine Spadaccini Orthopedic PA\n1010: Nuclear Medicine – What You Should Know\, Kathy Friscia\n1115 – 1130: Break\n1130: Stress First Aid – Caring For The Caregiver\, A Holistic Approach\, Susan Balamaci MS\, RN\n1235: Nurses and Retirement: Time to Plan\n1340: Evaluations and Certificates\n\n  \nDownload Flyer
URL:https://www.nyspana.net/event/nyspana-district-2-fall-conference/
LOCATION:Hyatt House Fishkill/Poughkeepsie\, 100 Westage Business Center Drive \, Fishkill\, NY\, 12524 \, United States
CATEGORIES:District 2,Districts
ATTACH;FMTTYPE=image/jpeg:https://www.nyspana.net/wp-content/uploads/2016/07/HYATT-house-Fishkill-Poughkeepsie-Exterior.jpg
END:VEVENT
END:VCALENDAR